BEGIN:VCALENDAR
VERSION:2.0
PRODID:-//Munster Agricultural Society//EVENT 1.0//EN
METHOD:PUBLISH
BEGIN:VEVENT
SUMMARY:International All Breed Championship Canine Show 2026
UID:2613b927768313d2f496693d352ac8f0
SEQUENCE:0
DTSTART:20260725T100000
DTEND:20260725T100000
ORGANIZER;CN=Munster Agricultural Canine Society:MAILTO:munsterag@gmail.com
LOCATION:
DTSTAMP:20260423T093902
DESCRIPTION:<p>Sat am show <a attributionsrc="/privacy_sandbox/comet/register/source/?xt=AZZfGnj_0lrOFLpHjsnfW6_04wszrH_s8YJOwdPUbGE_2DhAGG5XQiZ8XJbmsMV5ouc7Z0TPffhai5BOVpkAAqELA5DISNwZkPXk1zHkJQYONVWvIjNCN8FbiT6hYfda-sIEvN4AS84P_IvpYcpyj4IuPKp-gXEG46EoibnJwO8oBDaF90OsFTpg6IaFuBNFzaePEWNL9QRbJ8k5MHamCPt-YGsluEFND8dI_UwTI2qp6cQN1krZQTwqH4YQkNumMoILCqxbYc61itFGWDxV2Ot6bpOQFTEDwI5DVpc2_rncAz09Ll6GkIV41JTV8uOdKuLhYahNra5cR6GA2mOkapIMveQkt2dZ6DQfKuyF4gWrSJr6I1LvP-TKeV-JBwW5DQbS6RFWjemCpt42IlGhHeWAPcJmDXq8KV6jJkdImlxxfMls9_bvc1axgMcv6tGJmtFdxWLkwYfNB3qYk5O17l2RINNXLIAaz0ACf04H37-3POGd22tVT8QtHyoScSgAZU2kFcuhkLbRvqDf8oUAATFsPQGp3w9Q06nmNrLqAoKjfynnyJfMzKqbj_y__eAtey8BO9Jc2r8CZvLtTBvd2WOSoqoC1Hhb1YAahvqqr7OuAUUlXZqRBEJRtFxgM415iuQMwrN_1kCPjc3Ziz-lRT5Z6YHabZJHRsdos5Zl9AFXZFQ2pWgXEv50sIHZyAipgGXyLhHQ43lCk8rk-sPsIqAGYkibgE_Yu8fVSPvSA8bgoLv1wze1fHd-_N1jluc2OZeEG17hirEpPEYsEtq2FxGqpSwmJo-7_xFjiekxBBSNn-rPTgwZzcZWUlA9_GawspdxBffmqzTXkzwvlZXJs3RbJ0iBAFyWgtAnyY6T5y1obk4efFo7chXT97RdgyxX7dBuKNYKEALrhsRAQmYGkpIiFbqrZcGl58xTFLSC1AMWROGLRgwEm-spjflPLtf5LQRWjJHIK88F5O3KvDULW5nW9LTj1BWJOXVyf80cFrG0or_olkie6LG2u7ih61LrEHn9c1BMmFv4TbD3RBj6IqW-gvfQBYg5KGo3WHV-NDr1x8JB-tQvEud_IL3_8qquwF4wdtYTeMLp5UrYRVBI2yIfeDDLLdswfEg9R7vG2sQuRh1GWYMTW5J1oV9_z8rS9SVTGwh9kuWwKgkACHQN8B-mlIdnnmyezZVBundFGRuMnZCUQE20L0dI4WUMwCMncPffnDqwn_Hs3pCZglN5mEk4-Donlwac4wl1eun8uCUvOVH76BRZKSBQM3Vx03SZVkrckoLDpvLHK7AQRs6-ugb9GGvYS-4MWdAC7_KpLDCol1KAxOaJd0LPN0qwgIOff4fKi5gcXLHZg3Y9YAh9HPT6y_NsvY8Z_GyiTeEZlmKn6_WDWBjie4YVH2ywn0_Hu3tFvb9qk6GQalNHhqkoTPmjAq1tIjMSWdCjJdIxTqWvMgHJjm653bJmL2ig8808oZseugbLi2UYBJl0vKBqiFh1YrcYFYcphXRNxXo52XzTZyJolg0KKrEZox-006xODQE58tWoY7IqT9Nlo2Y2bqR8MGkcZPWMkzDVaw_10Kehu43O48o3d8QFE3sF-HyXHyIwvFZyzebwFlvgDpy7rg35aBMUQ1L1xxiWTXMg2nHg2a47DJLiDT3clK9oD0x-nqS2akLS5z_F0uj-nKue7yWbKWNVqlBG9ktFYNfVAlLVpXKiMgLgeaVUZDdDflLaXdWI4ET8MeyHKK36KyOuvqZAEEKDTfuGPQorSHCgv26FS6CUj5LoyVAoQxb11HnqaxrCo80BQInwtN5xInSVxv_AvHl8tdh49DPPmdCDRoFAbZQruhMrW0n2mrMeONFoehT5xea5UDzbPxNntrZGD9IEzUwfAmESXB472TaM3HavNcIbnZXQzbVhlK_8-skJ6CLnD7WWDaFbyZl7RX8bqn57AjHN-Kran93d8iGUC4aqQWIU64V5I_OWYHA0OJ2rVcCR7vbY9-QgGIRIULnTIvqbbarqikVOkpoTSt6GhrIIrA" href="https://services.ikc.ie/Show/ShowDetails.aspx?ShowId=5754&amp;fbclid=IwZXh0bgNhZW0CMTAAYnJpZBExOUVRMEY2bWtvSDI2S1BXenNydGMGYXBwX2lkEDIyMjAzOTE3ODgyMDA4OTIAAR6789DgMGHT-JCKXXHdVPiLnir5mqFKGdjNd-4kTkK00jazpQvM0S3Nh0r-aQ_aem_NDpxgyDWn1XMHwuJJL-Dcw" rel="nofollow noreferrer" role="link" tabindex="0" target="_blank">https://services.ikc.ie/Show/ShowDetails.aspx?ShowId=5754</a></p>

<p>Sat afternoon show <a attributionsrc="/privacy_sandbox/comet/register/source/?xt=AZZfGnj_0lrOFLpHjsnfW6_04wszrH_s8YJOwdPUbGE_2DhAGG5XQiZ8XJbmsMV5ouc7Z0TPffhai5BOVpkAAqELA5DISNwZkPXk1zHkJQYONVWvIjNCN8FbiT6hYfda-sIEvN4AS84P_IvpYcpyj4IuPKp-gXEG46EoibnJwO8oBDaF90OsFTpg6IaFuBNFzaePEWNL9QRbJ8k5MHamCPt-YGsluEFND8dI_UwTI2qp6cQN1krZQTwqH4YQkNumMoILCqxbYc61itFGWDxV2Ot6bpOQFTEDwI5DVpc2_rncAz09Ll6GkIV41JTV8uOdKuLhYahNra5cR6GA2mOkapIMveQkt2dZ6DQfKuyF4gWrSJr6I1LvP-TKeV-JBwW5DQbS6RFWjemCpt42IlGhHeWAPcJmDXq8KV6jJkdImlxxfMls9_bvc1axgMcv6tGJmtFdxWLkwYfNB3qYk5O17l2RINNXLIAaz0ACf04H37-3POGd22tVT8QtHyoScSgAZU2kFcuhkLbRvqDf8oUAATFsPQGp3w9Q06nmNrLqAoKjfynnyJfMzKqbj_y__eAtey8BO9Jc2r8CZvLtTBvd2WOSoqoC1Hhb1YAahvqqr7OuAUUlXZqRBEJRtFxgM415iuQMwrN_1kCPjc3Ziz-lRT5Z6YHabZJHRsdos5Zl9AFXZFQ2pWgXEv50sIHZyAipgGXyLhHQ43lCk8rk-sPsIqAGYkibgE_Yu8fVSPvSA8bgoLv1wze1fHd-_N1jluc2OZeEG17hirEpPEYsEtq2FxGqpSwmJo-7_xFjiekxBBSNn-rPTgwZzcZWUlA9_GawspdxBffmqzTXkzwvlZXJs3RbJ0iBAFyWgtAnyY6T5y1obk4efFo7chXT97RdgyxX7dBuKNYKEALrhsRAQmYGkpIiFbqrZcGl58xTFLSC1AMWROGLRgwEm-spjflPLtf5LQRWjJHIK88F5O3KvDULW5nW9LTj1BWJOXVyf80cFrG0or_olkie6LG2u7ih61LrEHn9c1BMmFv4TbD3RBj6IqW-gvfQBYg5KGo3WHV-NDr1x8JB-tQvEud_IL3_8qquwF4wdtYTeMLp5UrYRVBI2yIfeDDLLdswfEg9R7vG2sQuRh1GWYMTW5J1oV9_z8rS9SVTGwh9kuWwKgkACHQN8B-mlIdnnmyezZVBundFGRuMnZCUQE20L0dI4WUMwCMncPffnDqwn_Hs3pCZglN5mEk4-Donlwac4wl1eun8uCUvOVH76BRZKSBQM3Vx03SZVkrckoLDpvLHK7AQRs6-ugb9GGvYS-4MWdAC7_KpLDCol1KAxOaJd0LPN0qwgIOff4fKi5gcXLHZg3Y9YAh9HPT6y_NsvY8Z_GyiTeEZlmKn6_WDWBjie4YVH2ywn0_Hu3tFvb9qk6GQalNHhqkoTPmjAq1tIjMSWdCjJdIxTqWvMgHJjm653bJmL2ig8808oZseugbLi2UYBJl0vKBqiFh1YrcYFYcphXRNxXo52XzTZyJolg0KKrEZox-006xODQE58tWoY7IqT9Nlo2Y2bqR8MGkcZPWMkzDVaw_10Kehu43O48o3d8QFE3sF-HyXHyIwvFZyzebwFlvgDpy7rg35aBMUQ1L1xxiWTXMg2nHg2a47DJLiDT3clK9oD0x-nqS2akLS5z_F0uj-nKue7yWbKWNVqlBG9ktFYNfVAlLVpXKiMgLgeaVUZDdDflLaXdWI4ET8MeyHKK36KyOuvqZAEEKDTfuGPQorSHCgv26FS6CUj5LoyVAoQxb11HnqaxrCo80BQInwtN5xInSVxv_AvHl8tdh49DPPmdCDRoFAbZQruhMrW0n2mrMeONFoehT5xea5UDzbPxNntrZGD9IEzUwfAmESXB472TaM3HavNcIbnZXQzbVhlK_8-skJ6CLnD7WWDaFbyZl7RX8bqn57AjHN-Kran93d8iGUC4aqQWIU64V5I_OWYHA0OJ2rVcCR7vbY9-QgGIRIULnTIvqbbarqikVOkpoTSt6GhrIIrA" href="https://services.ikc.ie/Show/ShowDetails.aspx?ShowId=6238&amp;fbclid=IwZXh0bgNhZW0CMTAAYnJpZBExOUVRMEY2bWtvSDI2S1BXenNydGMGYXBwX2lkEDIyMjAzOTE3ODgyMDA4OTIAAR7Suga7djuEtrmgNK44b7hQT8ZdCbZHBvFjZvU_0uAcz-UX5vKsNfIuPED2Jw_aem_hyuioKSQKfs77gS_cJeSaA" rel="nofollow noreferrer" role="link" tabindex="0" target="_blank">https://services.ikc.ie/Show/ShowDetails.aspx?ShowId=6238</a></p>

<p>Sunday International show <a attributionsrc="/privacy_sandbox/comet/register/source/?xt=AZZfGnj_0lrOFLpHjsnfW6_04wszrH_s8YJOwdPUbGE_2DhAGG5XQiZ8XJbmsMV5ouc7Z0TPffhai5BOVpkAAqELA5DISNwZkPXk1zHkJQYONVWvIjNCN8FbiT6hYfda-sIEvN4AS84P_IvpYcpyj4IuPKp-gXEG46EoibnJwO8oBDaF90OsFTpg6IaFuBNFzaePEWNL9QRbJ8k5MHamCPt-YGsluEFND8dI_UwTI2qp6cQN1krZQTwqH4YQkNumMoILCqxbYc61itFGWDxV2Ot6bpOQFTEDwI5DVpc2_rncAz09Ll6GkIV41JTV8uOdKuLhYahNra5cR6GA2mOkapIMveQkt2dZ6DQfKuyF4gWrSJr6I1LvP-TKeV-JBwW5DQbS6RFWjemCpt42IlGhHeWAPcJmDXq8KV6jJkdImlxxfMls9_bvc1axgMcv6tGJmtFdxWLkwYfNB3qYk5O17l2RINNXLIAaz0ACf04H37-3POGd22tVT8QtHyoScSgAZU2kFcuhkLbRvqDf8oUAATFsPQGp3w9Q06nmNrLqAoKjfynnyJfMzKqbj_y__eAtey8BO9Jc2r8CZvLtTBvd2WOSoqoC1Hhb1YAahvqqr7OuAUUlXZqRBEJRtFxgM415iuQMwrN_1kCPjc3Ziz-lRT5Z6YHabZJHRsdos5Zl9AFXZFQ2pWgXEv50sIHZyAipgGXyLhHQ43lCk8rk-sPsIqAGYkibgE_Yu8fVSPvSA8bgoLv1wze1fHd-_N1jluc2OZeEG17hirEpPEYsEtq2FxGqpSwmJo-7_xFjiekxBBSNn-rPTgwZzcZWUlA9_GawspdxBffmqzTXkzwvlZXJs3RbJ0iBAFyWgtAnyY6T5y1obk4efFo7chXT97RdgyxX7dBuKNYKEALrhsRAQmYGkpIiFbqrZcGl58xTFLSC1AMWROGLRgwEm-spjflPLtf5LQRWjJHIK88F5O3KvDULW5nW9LTj1BWJOXVyf80cFrG0or_olkie6LG2u7ih61LrEHn9c1BMmFv4TbD3RBj6IqW-gvfQBYg5KGo3WHV-NDr1x8JB-tQvEud_IL3_8qquwF4wdtYTeMLp5UrYRVBI2yIfeDDLLdswfEg9R7vG2sQuRh1GWYMTW5J1oV9_z8rS9SVTGwh9kuWwKgkACHQN8B-mlIdnnmyezZVBundFGRuMnZCUQE20L0dI4WUMwCMncPffnDqwn_Hs3pCZglN5mEk4-Donlwac4wl1eun8uCUvOVH76BRZKSBQM3Vx03SZVkrckoLDpvLHK7AQRs6-ugb9GGvYS-4MWdAC7_KpLDCol1KAxOaJd0LPN0qwgIOff4fKi5gcXLHZg3Y9YAh9HPT6y_NsvY8Z_GyiTeEZlmKn6_WDWBjie4YVH2ywn0_Hu3tFvb9qk6GQalNHhqkoTPmjAq1tIjMSWdCjJdIxTqWvMgHJjm653bJmL2ig8808oZseugbLi2UYBJl0vKBqiFh1YrcYFYcphXRNxXo52XzTZyJolg0KKrEZox-006xODQE58tWoY7IqT9Nlo2Y2bqR8MGkcZPWMkzDVaw_10Kehu43O48o3d8QFE3sF-HyXHyIwvFZyzebwFlvgDpy7rg35aBMUQ1L1xxiWTXMg2nHg2a47DJLiDT3clK9oD0x-nqS2akLS5z_F0uj-nKue7yWbKWNVqlBG9ktFYNfVAlLVpXKiMgLgeaVUZDdDflLaXdWI4ET8MeyHKK36KyOuvqZAEEKDTfuGPQorSHCgv26FS6CUj5LoyVAoQxb11HnqaxrCo80BQInwtN5xInSVxv_AvHl8tdh49DPPmdCDRoFAbZQruhMrW0n2mrMeONFoehT5xea5UDzbPxNntrZGD9IEzUwfAmESXB472TaM3HavNcIbnZXQzbVhlK_8-skJ6CLnD7WWDaFbyZl7RX8bqn57AjHN-Kran93d8iGUC4aqQWIU64V5I_OWYHA0OJ2rVcCR7vbY9-QgGIRIULnTIvqbbarqikVOkpoTSt6GhrIIrA" href="https://services.ikc.ie/Show/ShowDetails.aspx?ShowId=5753&amp;fbclid=IwZXh0bgNhZW0CMTAAYnJpZBExOUVRMEY2bWtvSDI2S1BXenNydGMGYXBwX2lkEDIyMjAzOTE3ODgyMDA4OTIAAR6dZ_I68ErQ4xXQQCcquE-UMGQfmyl_fepfJHnDUnpFrW9QmkPWL2vdx54e1Q_aem_t8K4nYe2ancF7o5bq7SJBA" rel="nofollow noreferrer" role="link" tabindex="0" target="_blank">https://services.ikc.ie/Show/ShowDetails.aspx?ShowId=5753</a></p>
URL:https://canine.munsteragriculturalsociety.com/events/international-all-breed-championship-canine-show-2026
END:VEVENT
END:VCALENDAR