BEGIN:VCALENDAR
VERSION:2.0
PRODID:-//Munster Agricultural Society//EVENT 1.0//EN
METHOD:PUBLISH
BEGIN:VEVENT
SUMMARY:MAS All Breed Open Show
UID:794a63bf96df2103617f9c2f6e3c0f37
SEQUENCE:0
DTSTART:20240901T110000
DTEND:20240901T170000
ORGANIZER;CN=Munster Agricultural Canine Society:MAILTO:munsterag@gmail.com
LOCATION:Cork Showgrounds, Cork Showgrounds, Curraheen, T12 A2WK, Cork, Ireland
DTSTAMP:20260423T122627
DESCRIPTION:<p><strong>ALL RINGS OUTDOORS</strong></p>

<p>&nbsp;</p>
URL:https://canine.munsteragriculturalsociety.com/events/mas-all-breed-open-show
END:VEVENT
END:VCALENDAR