BEGIN:VCALENDAR
VERSION:2.0
PRODID:-//Munster Agricultural Society//EVENT 1.0//EN
METHOD:PUBLISH
BEGIN:VEVENT
SUMMARY:MAS Canine Education Day
UID:c2cccc9556345d3d119946e5245e3712
SEQUENCE:0
DTSTART:20261108T090000
DTEND:20261108T090000
ORGANIZER;CN=Munster Agricultural Canine Society:MAILTO:munsterag@gmail.com
LOCATION:
DTSTAMP:20260421T114808
DESCRIPTION:
URL:https://canine.munsteragriculturalsociety.com/events/mas-canine-education-day
END:VEVENT
END:VCALENDAR